BEGIN:VCALENDAR
VERSION:2.0
METHOD:PUBLISH
BEGIN:VEVENT
UID:WILD_APRICOT_EVENT_3735572_SESSION_1
DTSTART:20200306T140000Z
DTEND:20200308T140000Z
SUMMARY:2020 Queensland Youth Boulder Titles
LOCATION:Core Climbing 122 Eastlake St\, Carrara
DESCRIPTION:https://sportclimbingaustralia.org.au/event-3735572\n\n\n\n  2020 Queensland Youth Boulder Titles\n  \n\n  The 2020 QLD Youth Boulder Titles is here!\n  \n\n  This year\, for the first time\, Core Climbing will play host to the Queensland Youth Boulder Titles and we couldn't be more excited! Core is a massive supporter of youth bouldering and SCQ is excited to partner with such a new and exciting facility.\n  \n\n  The 2020 QLD Youth Boulder Titles is the event in which the Queensland State Champion for Bouldering will be decided for all Youth categories. The competition is also the qualifying event for the 2020 Combined Youth Nationals.\n\n  \n\n  \n\n  \n\n  \n\n  \n\n  \n\n  Download Info Pack here\n\n
DTSTAMP:20260424T165447Z
END:VEVENT
END:VCALENDAR
