BEGIN:VCALENDAR
VERSION:2.0
METHOD:PUBLISH
BEGIN:VEVENT
UID:WILD_APRICOT_EVENT_3714217_SESSION_1
DTSTART:20200228T130000Z
DTEND:20200301T130000Z
SUMMARY:2020 Victorian State Lead Titles
LOCATION:Cliffhanger Climbing Gym\, Altona North
DESCRIPTION:https://sportclimbingaustralia.org.au/event-3714217\n\n\n\n  Victorian State Lead Titles 2020\n  \n\n  Please join us for the 2020 Victorian Lead Titles hosted by Cliffhanger Indoor Rock Climbing Gym. Held over 2 days\, February 29th will feature the Open\, Masters\, Para and Inclusive categories and all youth categories will be climbing on March 1.\n  \n\n  Note: Registeraion for inclusive catagory coming soon. \n  \n\n  \n\n  \n\n  \n\n  \n\n  \n\n  \n\n  \n\n  \n\n  \n\n  \n\n  \n\n  Download 2020 Victorian Lead Titles Infopack\n  \n\n  \n\n  \n\n  \n\n
DTSTAMP:20260424T153332Z
END:VEVENT
END:VCALENDAR
