BEGIN:VCALENDAR
VERSION:2.0
METHOD:PUBLISH
BEGIN:VEVENT
UID:WILD_APRICOT_EVENT_3700561_SESSION_1
DTSTART:20200208T130000Z
DTEND:20200209T130000Z
SUMMARY:2020 NSW/ACT State Speed Titles
LOCATION:SICG Villawood
DESCRIPTION:https://sportclimbingaustralia.org.au/event-3700561\n\n \n  \n\n  \n\n  2020 NSW/ACT State Speed Titles\n  \n\n  The 2020 NSW/ACT State Speed Titles will be held at SICG Villawood. All categories from Open to youth will be completing on the one day. \n  \n\n  Early Bird 13th - 26th Jan\n  Standard 27th Jan  - 4th Feb\n  Late entry 5th - 7th Feb\n  \n\n  \n\n  \n\n  \n\n  \n\n  \n\n  Download Info pack\n\n  \n\n  Link to volunteer\n\n  \n\n  \n\n
DTSTAMP:20260424T155229Z
END:VEVENT
END:VCALENDAR
