BEGIN:VCALENDAR
VERSION:2.0
METHOD:PUBLISH
BEGIN:VEVENT
UID:WILD_APRICOT_EVENT_3700327_SESSION_1
DTSTART:20200214T140000Z
DTEND:20200215T140000Z
SUMMARY:2020 NSW/ACT Youth Lead Titles
LOCATION:Climbfit Kirrawee
DESCRIPTION:https://sportclimbingaustralia.org.au/event-3700327\n\n\n\n  \n\n  2020 NSW/ACT State Youth  Lead Titles \n  \n\n  Sport Climbing NSW/ACT are excited to announce the 2020 State Youth Lead Titles will be held for the very frst time at Climbfit Kirrawee on the 15th February.\n  \n\n  Early Bird 13th - 26th Jan\n  Standard 27th Jan - 11th Feb\n  Late Entry 12th - 14 th Feb\n  \n\n  \n\n  \n\n  \n\n  Download Info Pack\n\n  \n\n  Link to volunteer\n\n
DTSTAMP:20260424T154212Z
END:VEVENT
END:VCALENDAR
