BEGIN:VCALENDAR
VERSION:2.0
METHOD:PUBLISH
BEGIN:VEVENT
UID:WILD_APRICOT_EVENT_3700277_SESSION_1
DTSTART:20200207T130000Z
DTEND:20200208T130000Z
SUMMARY:2020 NSW/ACT Open Lead Titles
LOCATION:SICG Villawood
DESCRIPTION:https://sportclimbingaustralia.org.au/event-3700277\n\n\n\n  \n\n  2020 NSW/ACT Open State Lead Titles \n  \n\n  The 2020 NSW/ACT Open State Lead  Titles will be held on Saturday 8th February at Sydney Indoor Climbing Gym (SICG) Villawood. \n  \n\n  Early Bird 13-26th Jan \n  Standard 27Jan - 4th Feb\n  Late Entry 5-7th Feb\n  \n\n  \n\n  \n\n                                                 Download Info Pack  \n\n  \n\n  \n\n  Link to volunteer\n \n\n  \n\n  \n\n  \n\n  \n\n
DTSTAMP:20260424T155209Z
END:VEVENT
END:VCALENDAR
