BEGIN:VCALENDAR
VERSION:2.0
METHOD:PUBLISH
BEGIN:VEVENT
UID:WILD_APRICOT_EVENT_3688891_SESSION_1
DTSTART:20200221T160000Z
DTEND:20200222T160000Z
SUMMARY:2020 Western Australia  State Lead Titles
LOCATION:City Summit Indoor Climbing Centre
DESCRIPTION:https://sportclimbingaustralia.org.au/event-3688891\n\n\n\n  WA State Lead Titles 2020\n  \n\n  As we climb closer to the 2020 Tokyo Olympics Sport Climbing Western Australia in partnership with Sport Climbing Australia\, Summit Walls and  Sea to Summit are proud to announce the 2020 WA State Lead titles.  The event will be hosted by City Summit on the 22nd February 2020. \n  \n\n  \n\n  \n\n  \n\n  \n\n  \n\n  2020 WA Lead info pack\n  \n\n  \n\n  Volunteer Link to register \n
DTSTAMP:20260424T175321Z
END:VEVENT
END:VCALENDAR
