BEGIN:VCALENDAR
VERSION:2.0
METHOD:PUBLISH
BEGIN:VEVENT
UID:WILD_APRICOT_EVENT_3688052_SESSION_1
DTSTART:20201016T130000Z
DTEND:20201018T130000Z
SUMMARY:2020 VIC Boulder Titles - UNCONFIRMED
LOCATION:
DESCRIPTION:https://sportclimbingaustralia.org.au/event-3688052\n\n\n\n  \n\n  \n\n  \n\n       \n  \n\n  The 2020 Victorian State Boulder Titles will be held on the weekend of the 17th and 18th October 2020.  All catagories will be contested.  \n  \n\n  Stay tuned for further information as it comes to hand. \n  \n\n  \n\n  \n\n  \n \n\n  \n\n  \n\n  \n\n  \n\n  \n\n   \n  \n\n
DTSTAMP:20260424T155127Z
END:VEVENT
END:VCALENDAR
