BEGIN:VCALENDAR
VERSION:2.0
METHOD:PUBLISH
BEGIN:VEVENT
UID:WILD_APRICOT_EVENT_3688050_SESSION_1
DTSTART:20201009T140000Z
DTEND:20201011T140000Z
SUMMARY:2020 QLD Open Lead Titles - UNCONFIRMED
LOCATION:
DESCRIPTION:https://sportclimbingaustralia.org.au/event-3688050\n\n\n\n  \n\n  \n\n  \n\n       \n  \n\n  The 2020 Queensland  State Lead Titles will be held on the weekend of the 10th and 11th October 2020.  All catagories will be contested.  \n  \n\n  Stay tuned for further information as it comes to hand. \n  \n\n  \n\n  \n\n  \n \n\n  \n\n  \n\n  \n\n  \n\n  \n\n   \n  \n\n
DTSTAMP:20260424T155732Z
END:VEVENT
END:VCALENDAR
