BEGIN:VCALENDAR
VERSION:2.0
METHOD:PUBLISH
BEGIN:VEVENT
UID:WILD_APRICOT_EVENT_3688047_SESSION_1
DTSTART:20201111T130000Z
DTEND:20201115T130000Z
SUMMARY:2020 NSW/ACT State Boulder Titles
LOCATION:Sydney Indoor Climbing Gym - Villawood
DESCRIPTION:https://sportclimbingaustralia.org.au/event-3688047\n\n\n\n  \n\n  \n\n  2020 NSW/ACT State Boulder Titles\n       \n  \n\nWe are back!!!!! The NSW/ACT State Boulder Titles will be held on the 12th to 15th November at Sydney Indoor Climbing Gym\, Villawood.  Top ranked climbers will be invited represent their state/territory at the National Championships in 2021.  \n\n  \n\n  \n\n  Info pack \n\n  \n\n  \n\n  Read carefully the attached info pack which has all information regarding category changes and the Covid safe plan.\n\n      * Please also be vigilant with Covid 19 symptoms for the health and safety of all competitors and officials. \n\n\n      * If any competitor feels the need to withdraw prior to the event you can do so by written request to Sport Climbing NSW/ACT at  sportclimbingNSWACT@outlook.com\n\n  \n\n  \n\n  \n\n  \n\n
DTSTAMP:20260424T155117Z
END:VEVENT
END:VCALENDAR
