BEGIN:VCALENDAR
VERSION:2.0
METHOD:PUBLISH
BEGIN:VEVENT
UID:WILD_APRICOT_EVENT_3688046_SESSION_1
DTSTART:20200918T143000Z
DTEND:20200920T143000Z
SUMMARY:2020 SA Boulder Titles - UNCONFIRMED
LOCATION:
DESCRIPTION:https://sportclimbingaustralia.org.au/event-3688046\n\n\n\n  \n\n  \n\n  \n\n       \n  \n\n  The 2020 South Australian Boulder Titles will be held on the weekend of the 19th and 20th September 2020.  All catagories will be contested.  \n  \n\n  Stay tuned for further information as it comes to hand. \n  \n\n  \n\n  \n\n  \n \n\n  \n\n  \n\n  \n\n  \n\n  \n\n   \n  \n\n
DTSTAMP:20260424T165155Z
END:VEVENT
END:VCALENDAR
