BEGIN:VCALENDAR
VERSION:2.0
METHOD:PUBLISH
BEGIN:VEVENT
UID:WILD_APRICOT_EVENT_3688045_SESSION_1
DTSTART:20200911T140000Z
DTEND:20200913T140000Z
SUMMARY:2020 TAS Boulder Titles - UNCONFIRMED
LOCATION:
DESCRIPTION:https://sportclimbingaustralia.org.au/event-3688045\n\n\n\n  \n\n  \n\n  \n\n       \n  \n\n  The 2020 Tasmainian Boulder Titles will be held on the weekend of the 12th nd 13th September 2020.  All catagories will be contested.  \n  \n\n  Stay tuned for further information as it comes to hand. \n  \n\n  \n\n  \n \n\n  \n\n  \n\n  \n\n  \n\n  \n\n   \n  \n\n
DTSTAMP:20260424T154141Z
END:VEVENT
END:VCALENDAR
