BEGIN:VCALENDAR
VERSION:2.0
METHOD:PUBLISH
BEGIN:VEVENT
UID:WILD_APRICOT_EVENT_3688044_SESSION_1
DTSTART:20200724T140000Z
DTEND:20200726T140000Z
SUMMARY:2020 QLD Open Boulder Titles - UNCONFIRMED
LOCATION:
DESCRIPTION:https://sportclimbingaustralia.org.au/event-3688044\n\n\n\n  \n\n  \n\n  \n\n       \n  \n\n  The 2020 Queensland Open Boulder Titles will be held on the weekend of the 25th and 26th July 2020.  All catagories will be contested.  \n  \n\n  Stay tuned for further information as it comes to hand. \n  \n\n  \n\n  \n \n\n  \n\n  \n\n  \n\n  \n\n  \n\n   \n  \n\n
DTSTAMP:20260424T184421Z
END:VEVENT
END:VCALENDAR
