BEGIN:VCALENDAR
VERSION:2.0
METHOD:PUBLISH
BEGIN:VEVENT
UID:WILD_APRICOT_EVENT_3688040_SESSION_1
DTSTART:20200828T160000Z
DTEND:20200830T160000Z
SUMMARY:2020 Western Australian State Boulder Title
LOCATION:Portside Boulders Osborne Park
DESCRIPTION:https://sportclimbingaustralia.org.au/event-3688040\n\n\n\n  Sport Climbing WA is grateful to host The 2020 WA Boulder State Titles.\n  \n\n  WA climbing facilities have operated under very difficult circumstances in this time of Covid 19. They have collaborated on the framework that made returning to climbing possible for all of us.\n  \n\n  We want to take this opportunity to thank them all.\n\n  \n\n  \n\n       \n  \n\n  \n  \n\n  \n\n  \n\n  Info pack \n  https://www.facebook.com/events/304120800992893/\n\n  \n\n  \n\n  \n\n  \n \n\n  \n\n  \n\n  \n\n  \n\n  \n\n   \n  \n\n
DTSTAMP:20260424T165345Z
END:VEVENT
END:VCALENDAR
