BEGIN:VCALENDAR
VERSION:2.0
METHOD:PUBLISH
BEGIN:VEVENT
UID:WILD_APRICOT_EVENT_3688038_SESSION_1
DTSTART:20200501T143000Z
DTEND:20200503T143000Z
SUMMARY:2020 South Australian State Lead Titles
LOCATION:
DESCRIPTION:https://sportclimbingaustralia.org.au/event-3688038\n\n\n\n  \n\n  \n\n  \n\n       \n  \n\n  The 2020 South Australian Lead Titles will be held on the weekend of the 2nd and 3rd of May 2020.  All catagories will be contested.  \n  \n\n  Stay tuned for further information as it comes to hand. \n  \n\n  \n\n  \n \n\n  \n\n  \n\n  \n\n  \n\n  \n\n   \n  \n\n
DTSTAMP:20260424T155219Z
END:VEVENT
END:VCALENDAR
