BEGIN:VCALENDAR
VERSION:2.0
METHOD:PUBLISH
BEGIN:VEVENT
UID:WILD_APRICOT_EVENT_3568365_SESSION_1
DTSTART:20191106T130000Z
DTEND:20191110T130000Z
SUMMARY:The Mammut 2019 Open Lead Speed And Boulder Championships
LOCATION:Sydney
DESCRIPTION:https://sportclimbingaustralia.org.au/event-3568365\n\nNational  Lead\, Speed and Boulder\n  \n\n  Open B\, Para and Master registration ONLY\n  (contact your state board for Open A)\n  \n\n  \n\n  \n  \n\n  \n\n  Infopack\n  \n\n  Selection Policy to participate\n  \n\n  \n\n  Speed event: Note that only one category will be run. Please contact your state board for registration.\n  \n\n  \n\n  \n\n  \n\n  \n\n  The event will be selecting the 2020 Open Team for each discipline.\n  National Team Selection Policy\n  \n\n  This event will also select the 10 athletes that will participate in the 2020 Oceania Combined Championships.\n  2020 Selection Policy Oceania // Overall Ranking Policy\n\n  \n\n  \n\n  \n\n  \n\n  \n\n  \n\n
DTSTAMP:20260424T192642Z
END:VEVENT
END:VCALENDAR
