BEGIN:VCALENDAR
VERSION:2.0
METHOD:PUBLISH
BEGIN:VEVENT
UID:WILD_APRICOT_EVENT_3519765_SESSION_1
DTSTART:20190920T140000Z
DTEND:20190921T140000Z
SUMMARY:2019 Victorian Bouldering Titles
LOCATION:Northside Boulders\, 329 Victoira St Brunswick
DESCRIPTION:https://sportclimbingaustralia.org.au/event-3519765\n\n 2019 Victorian Bouldering Titles\n  \n\n  Northside Boulders and Sport Climbing Victoria are proud to present the 2019 STate Bouldering Titles. \n  \n\n  \n\n  \n\n  \n\n  \n\n  \n\n  \n\n  2019 Vic Bouldering Titles Info pack\n\n  \n\n  \n\n
DTSTAMP:20260424T164839Z
END:VEVENT
END:VCALENDAR
