BEGIN:VCALENDAR
VERSION:2.0
METHOD:PUBLISH
BEGIN:VEVENT
UID:WILD_APRICOT_EVENT_3344819_SESSION_1
DTSTART:20190510T140000Z
DTEND:20190511T140000Z
SUMMARY:2019 Victorian Speed Titles
LOCATION:Gravity Worx\, Coburg VIC
DESCRIPTION:https://sportclimbingaustralia.org.au/event-3344819\n\n\n\n  \n\n  \n\n  \n\n  \n\n  \n\n  \n\n  2019 Victorian Speed Titles Info pack\n  \n\n  http://www.sportclimbingaustralia.org.au/Upcoming-Events \n\n  \n\n  \n\n
DTSTAMP:20260424T153359Z
END:VEVENT
END:VCALENDAR
