BEGIN:VCALENDAR
VERSION:2.0
METHOD:PUBLISH
BEGIN:VEVENT
UID:WILD_APRICOT_EVENT_3230609_SESSION_1
DTSTART:20201230T130000Z
DTEND:20201231T130000Z
SUMMARY:2020 Special Consideration and International Event Payments
LOCATION:Overseas
DESCRIPTION:https://sportclimbingaustralia.org.au/event-3230609\n\nThis is to register to international events and pay for special consideration applications Please note it is a requirement to have qualified for it (see selection policy).\n  \n\n  Also\, an international licence is required to be able to sign up to these events.\n
DTSTAMP:20260424T175305Z
END:VEVENT
END:VCALENDAR
