BEGIN:VCALENDAR
VERSION:2.0
METHOD:PUBLISH
BEGIN:VEVENT
UID:WILD_APRICOT_EVENT_3202707_SESSION_1
DTSTART:20190215T130000Z
DTEND:20190217T130000Z
SUMMARY:2019 Victoria Lead Titles
LOCATION:Cliffhanger Climbing Gym\, Altona
DESCRIPTION:https://sportclimbingaustralia.org.au/event-3202707\n\n2019 Victorian State Lead Titles\n  \n\n  \n\n  Sport Climbing Victoria is proud to announce the 2019 Lead Titles to be held for the first time in many years at Cliffhanger Climbing Gym. Get ready for some great climbing!\n  \n\n  \n\n  \n\n  \n\n     Info Pack\n 
DTSTAMP:20260424T161434Z
END:VEVENT
END:VCALENDAR
