BEGIN:VCALENDAR
VERSION:2.0
METHOD:PUBLISH
BEGIN:VEVENT
UID:WILD_APRICOT_EVENT_3183600_SESSION_1
DTSTART:20190208T130000Z
DTEND:20190210T130000Z
SUMMARY:2019 NSW/ACT Lead and Speed Titles
LOCATION:SICG Villawood
DESCRIPTION:https://sportclimbingaustralia.org.au/event-3183600\n\nNSW/ACT State Lead and Speed Titles 2019\n  \n\n  The NSW/ACT State Lead and Speed Titles will kick off the 2019 season over one big weekend at\n  SICG Villawood.\n\n  \n\n  \n\n  \n\n  \n\n  \n\n  Infopack HERE\n  \n\n  \n\n  Stay tuned to the Facebook page for event updates\n  https://www.facebook.com/events/1789449011166873/\n  \n\n  Volunteers also needed please go to\n  https://goo.gl/forms/tEJohKPV9JfQfaUx2\n  \n\n
DTSTAMP:20260424T154238Z
END:VEVENT
END:VCALENDAR
