BEGIN:VCALENDAR
VERSION:2.0
METHOD:PUBLISH
BEGIN:VEVENT
UID:WILD_APRICOT_EVENT_3147020_SESSION_1
DTSTART:20190523T140000Z
DTEND:20190526T140000Z
SUMMARY:2019 Youth National Championships
LOCATION:SICG Villawood
DESCRIPTION:https://sportclimbingaustralia.org.au/event-3147020\n\n\n\n  2019 National Youth Championships\n  \n\n  \n\n         \n  \n\n  \n\n  \n\n  \n\n  \n\n  The 2019 National Youth Championships will once again be held at SICG Villawood. Click through to the info pack for all the details of this massive competition brought to you by Sport Climbing Australia\, Sport Climbing NSW/ACT\, La Sportiva and Edelrid.  \n  \n\n  \n\n  \n \n\n  Youth Nationals info pack 2019\n  \n\n  \n\n  \n\n  Selection criteria apply: 2019 Selection Policy National Youth\n  \n\n  If you would like to volunteer  please head HERE.\n   \n  \n\n
DTSTAMP:20260424T192749Z
END:VEVENT
END:VCALENDAR
