BEGIN:VCALENDAR
VERSION:2.0
METHOD:PUBLISH
BEGIN:VEVENT
UID:WILD_APRICOT_EVENT_3056196_SESSION_1
DTSTART:20181019T130000Z
DTEND:20181021T130000Z
SUMMARY:2018 Open Boulder Championships
LOCATION:Adrenaline Vault - PERTH
DESCRIPTION:https://sportclimbingaustralia.org.au/event-3056196\n\n\n\n  \n\n  2018 Open Boulder Championships\n  \n\n  \n\n  To be held at Adrenaline Vault\, Perth - 20th and 21st October 2018.\n  \n\n  \n\n  \n\n      * OPEN A registration --> contact your organisation (see infopack)\n\n      * OPEN B and Master Registration on this page\n\n\n  \n\n  Competition Infopack\n  \n\n  \n\n  \n\n  If you would like to be part of the organisation team and volunteer head here.\n  \n\nSelection Policy  \n\n
DTSTAMP:20260424T154203Z
END:VEVENT
END:VCALENDAR
