BEGIN:VCALENDAR
VERSION:2.0
METHOD:PUBLISH
BEGIN:VEVENT
UID:WILD_APRICOT_EVENT_2836526_SESSION_1
DTSTART:20180317T130000Z
DTEND:20180318T130000Z
SUMMARY:2018 Victorian Speed Titles
LOCATION:Gravity Worx\, Coburg VIC
DESCRIPTION:https://sportclimbingaustralia.org.au/event-2836526\n\n\n\n  \n\n  Victoria's first ever state speed titles.\n\n  \n\n  Info Pack can be downloaded here\n  \n\n  \n\n
DTSTAMP:20260424T192632Z
END:VEVENT
END:VCALENDAR
