BEGIN:VCALENDAR
VERSION:2.0
METHOD:PUBLISH
BEGIN:VEVENT
UID:WILD_APRICOT_EVENT_2749710_SESSION_1
DTSTART:20180209T130000Z
DTEND:20180210T130000Z
SUMMARY:2018 Victoria Lead Titles
LOCATION:Northwalls\, Brunswick
DESCRIPTION:https://sportclimbingaustralia.org.au/event-2749710\n\n2018 Victorian State Lead Titles\n  \n\n  \n\n  \n\n  Info Pack can be downloaded here\n
DTSTAMP:20260424T192543Z
END:VEVENT
END:VCALENDAR
