BEGIN:VCALENDAR
VERSION:2.0
METHOD:PUBLISH
BEGIN:VEVENT
UID:WILD_APRICOT_EVENT_2436660_SESSION_1
DTSTART:20170518T140000Z
DTEND:20170521T140000Z
SUMMARY:2017 Clif Bar Youth Climbing Championships
LOCATION:Multiple
DESCRIPTION:https://sportclimbingaustralia.org.au/event-2436660\n\n2017 Clif Bar Youth Climbing Championships\n  \n\n  Friday (19th May)\n\n  Youth Boulder Championships\n  Bayside Rock Climbing - Carrum Downs - VIC\n\n  \n\n  Saturday (20th May)\n  Youth Lead Championships\n  Hardrock Climbing - Nunawading - VIC\n\n  \n\n  Sunday (21st May)\n  Youth Speed Championships\n  Gravityworx - Coburg - VIC\n\n  \n\n  \n\n  For more information check out the info pack.\n\n  \n\n  To sign up as a volunteer\, click here. \n\n  \n\n  \n\n  \n\n  \n\n  \n\n  \n\n  \n\n  \n\n  \n\n
DTSTAMP:20260424T154100Z
END:VEVENT
END:VCALENDAR
