BEGIN:VCALENDAR
VERSION:2.0
METHOD:PUBLISH
BEGIN:VEVENT
UID:WILD_APRICOT_EVENT_2276282_SESSION_1
DTSTART:20160916T140000Z
DTEND:20160917T140000Z
SUMMARY:VIC - 2016 Victoria Bouldering Titles
LOCATION:Northside Boulders
DESCRIPTION:https://sportclimbingaustralia.org.au/event-2276282\n\n\n\n     \n     What better way to get psyched about the Paris\, Sport Climbing World Championships than by competing in your local championships!? Happening the same weekend as the world champs\, on September 17th\, Northside Boulders will be hosting the 2016 Victorian Bouldering Titles.\n  \n\n  Join us in celebrating this historic year for sport climbing while testing yourself against some of the best plastic problems our state has to offer. New holds\, awesome prizes and great company mean that the day will be action packed.\n  \n\n  Info Pack HERE\n\n  \n\n  \n\n  
DTSTAMP:20260424T154149Z
END:VEVENT
END:VCALENDAR
