BEGIN:VCALENDAR
VERSION:2.0
METHOD:PUBLISH
BEGIN:VEVENT
UID:WILD_APRICOT_EVENT_2243133_SESSION_1
DTSTART:20160617T060000Z
DTEND:20160619T060000Z
SUMMARY:Oceania and National Lead and Speed Climbing Championships
LOCATION:Sydney Indoor Climbing Gym Villawood
DESCRIPTION:https://sportclimbingaustralia.org.au/event-2243133\n\nThis year the Australian National Lead and Speed Championships will also be the Oceania Lead and Speed Championships.\n \n\n  \n\n  \n\n  Speed Climbing: 17 June 2016 (4pm)\n\n  Lead Climbing: 18 - 19 June 2016\n  \n\n  An event organised and hosted by:\n  \n\n                 \n\n  \n\n  \n\n  \n\n  Access the InfoPack here! \n  \n\n  Registration on the left of this page. If you have any query\, please contact events@sportclimbingaustralia.org.au.\n  \n\n  Please note that by registering here you are registering for the National Championship. If you wish to be part of the Oceania event you will also need to contact your National Sporting Organisation to be registered with the IFSC.\n  \n\n  \n\n  Thanks to our main sponsors:\n  \n\n          \n  \n\n    \n  \n\n  \n\n  \n\n  \n\n  Also thanks to:\n  \n\n       \n  \n\n  \n\n  \n\n  \n\n
DTSTAMP:20260424T164342Z
END:VEVENT
END:VCALENDAR
